Package: bamsignals Version: 1.36.0 Command: E:\biocbuild\bbs-3.19-bioc\R\bin\R.exe CMD INSTALL bamsignals StartedAt: 2024-10-16 16:11:32 -0400 (Wed, 16 Oct 2024) EndedAt: 2024-10-16 16:12:13 -0400 (Wed, 16 Oct 2024) EllapsedTime: 40.9 seconds RetCode: 0 Status: OK