Package: bamsignals Version: 1.36.0 Command: E:\biocbuild\bbs-3.19-bioc\R\bin\R.exe CMD check --no-multiarch --install=check:bamsignals.install-out.txt --library=E:\biocbuild\bbs-3.19-bioc\R\library --no-vignettes --timings bamsignals_1.36.0.tar.gz StartedAt: 2024-10-16 22:58:44 -0400 (Wed, 16 Oct 2024) EndedAt: 2024-10-16 23:01:51 -0400 (Wed, 16 Oct 2024) EllapsedTime: 187.1 seconds RetCode: 0 Status: OK CheckDir: bamsignals.Rcheck Warnings: 0