Package: bamsignals Version: 1.36.0 Command: rm -rf bamsignals.buildbin-libdir && mkdir bamsignals.buildbin-libdir && E:\biocbuild\bbs-3.19-bioc\R\bin\R.exe CMD INSTALL --build --library=bamsignals.buildbin-libdir bamsignals_1.36.0.tar.gz StartedAt: 2024-10-17 07:21:48 -0400 (Thu, 17 Oct 2024) EndedAt: 2024-10-17 07:22:28 -0400 (Thu, 17 Oct 2024) EllapsedTime: 40.0 seconds RetCode: 0 Status: OK PackageFile: bamsignals_1.36.0.zip PackageFileSize: 6.606 MiB