Package: bamsignals Version: 1.36.0 Command: chmod a+r bamsignals -R && F:\biocbuild\bbs-3.19-bioc\R\bin\R.exe CMD build --keep-empty-dirs --no-resave-data bamsignals StartedAt: 2024-06-26 17:12:55 -0400 (Wed, 26 Jun 2024) EndedAt: 2024-06-26 17:13:52 -0400 (Wed, 26 Jun 2024) EllapsedTime: 56.8 seconds RetCode: 0 Status: OK PackageFile: bamsignals_1.36.0.tar.gz PackageFileSize: 2.677 MiB