Package: bamsignals Version: 1.36.0 Command: /home/biocbuild/bbs-3.19-bioc/R/bin/R CMD build --keep-empty-dirs --no-resave-data bamsignals StartedAt: 2024-10-16 17:00:38 -0400 (Wed, 16 Oct 2024) EndedAt: 2024-10-16 17:01:07 -0400 (Wed, 16 Oct 2024) EllapsedTime: 29.1 seconds RetCode: 0 Status: OK PackageFile: bamsignals_1.36.0.tar.gz PackageFileSize: 3.09 MiB