Package: bamsignals Version: 1.36.0 Command: /Library/Frameworks/R.framework/Resources/bin/R CMD build --keep-empty-dirs --no-resave-data bamsignals StartedAt: 2024-06-09 15:53:28 -0400 (Sun, 09 Jun 2024) EndedAt: 2024-06-09 15:54:06 -0400 (Sun, 09 Jun 2024) EllapsedTime: 37.9 seconds RetCode: 0 Status: OK PackageFile: bamsignals_1.36.0.tar.gz PackageFileSize: 3.15 MiB