Package: bamsignals Version: 1.36.0 Command: /home/biocbuild/R/R-beta-2024-04-15_r86425/bin/R CMD build --keep-empty-dirs --no-resave-data bamsignals StartedAt: 2024-05-08 22:27:30 -0000 (Wed, 08 May 2024) EndedAt: 2024-05-08 22:28:26 -0000 (Wed, 08 May 2024) EllapsedTime: 56.1 seconds RetCode: 0 Status: OK PackageFile: bamsignals_1.36.0.tar.gz PackageFileSize: 3.021 MiB