Package: bamsignals Version: 1.36.0 Command: rm -rf bamsignals.buildbin-libdir && mkdir bamsignals.buildbin-libdir && /Users/biocbuild/BBS/utils/build-universal.sh bamsignals_1.36.0.tar.gz /Library/Frameworks/R.framework/Resources/bin/R bamsignals.buildbin-libdir StartedAt: 2024-06-11 10:12:08 -0400 (Tue, 11 Jun 2024) EndedAt: 2024-06-11 10:13:00 -0400 (Tue, 11 Jun 2024) EllapsedTime: 52.0 seconds RetCode: 0 Status: OK PackageFile: bamsignals_1.36.0.tgz PackageFileSize: 2.797 MiB