Package: bambu Version: 3.6.0 Command: rm -rf bambu.buildbin-libdir && mkdir bambu.buildbin-libdir && F:\biocbuild\bbs-3.19-bioc\R\bin\R.exe CMD INSTALL --build --library=bambu.buildbin-libdir bambu_3.6.0.tar.gz StartedAt: 2024-06-27 07:51:04 -0400 (Thu, 27 Jun 2024) EndedAt: 2024-06-27 07:52:40 -0400 (Thu, 27 Jun 2024) EllapsedTime: 95.3 seconds RetCode: 0 Status: OK PackageFile: bambu_3.6.0.zip PackageFileSize: 2.14 MiB