Package: bambu Version: 3.6.0 Command: /Library/Frameworks/R.framework/Resources/bin/R CMD build --keep-empty-dirs --no-resave-data bambu StartedAt: 2024-10-16 17:10:52 -0400 (Wed, 16 Oct 2024) EndedAt: 2024-10-16 17:44:09 -0400 (Wed, 16 Oct 2024) EllapsedTime: 1997.9 seconds RetCode: 0 Status: OK PackageFile: bambu_3.6.0.tar.gz PackageFileSize: 2.29 MiB