Package: bambu Version: 3.6.0 Command: rm -rf bambu.buildbin-libdir && mkdir bambu.buildbin-libdir && /Users/biocbuild/BBS/utils/build-universal.sh bambu_3.6.0.tar.gz /Library/Frameworks/R.framework/Resources/bin/R bambu.buildbin-libdir StartedAt: 2024-10-17 15:39:45 -0400 (Thu, 17 Oct 2024) EndedAt: 2024-10-17 15:41:59 -0400 (Thu, 17 Oct 2024) EllapsedTime: 133.9 seconds RetCode: 0 Status: OK PackageFile: bambu_3.6.0.tgz PackageFileSize: 2.098 MiB