Package: bambu Version: 3.6.0 Command: /Library/Frameworks/R.framework/Resources/bin/R CMD check --install=check:bambu.install-out.txt --library=/Library/Frameworks/R.framework/Resources/library --no-vignettes --timings bambu_3.6.0.tar.gz StartedAt: 2024-06-09 18:49:45 -0400 (Sun, 09 Jun 2024) EndedAt: 2024-06-09 18:57:43 -0400 (Sun, 09 Jun 2024) EllapsedTime: 478.0 seconds RetCode: 0 Status: OK CheckDir: bambu.Rcheck Warnings: 0