Package: bambu Version: 3.5.1 Command: /home/biocbuild/R/R-beta-2024-04-15_r86425/bin/R CMD check --install=check:bambu.install-out.txt --library=/home/biocbuild/R/R-beta-2024-04-15_r86425/site-library --no-vignettes --timings bambu_3.5.1.tar.gz StartedAt: 2024-04-29 03:40:37 -0000 (Mon, 29 Apr 2024) EndedAt: 2024-04-29 03:50:59 -0000 (Mon, 29 Apr 2024) EllapsedTime: 622.1 seconds RetCode: 0 Status: OK CheckDir: bambu.Rcheck Warnings: 0