Package: bambu Version: 3.6.0 Command: /home/biocbuild/R/R-beta-2024-04-15_r86425/bin/R CMD build --keep-empty-dirs --no-resave-data bambu StartedAt: 2024-05-08 22:27:28 -0000 (Wed, 08 May 2024) EndedAt: 2024-05-08 23:07:28 -0000 (Wed, 08 May 2024) EllapsedTime: 2400.1 seconds RetCode: None Status: TIMEOUT PackageFile: None PackageFileSize: NA