Package: ballgown Version: 2.36.0 Command: E:\biocbuild\bbs-3.19-bioc\R\bin\R.exe CMD check --no-multiarch --install=check:ballgown.install-out.txt --library=E:\biocbuild\bbs-3.19-bioc\R\library --no-vignettes --timings ballgown_2.36.0.tar.gz StartedAt: 2024-10-16 22:57:58 -0400 (Wed, 16 Oct 2024) EndedAt: 2024-10-16 23:05:16 -0400 (Wed, 16 Oct 2024) EllapsedTime: 437.6 seconds RetCode: 0 Status: OK CheckDir: ballgown.Rcheck Warnings: 0