Package: ballgown Version: 2.36.0 Command: rm -rf ballgown.buildbin-libdir && mkdir ballgown.buildbin-libdir && E:\biocbuild\bbs-3.19-bioc\R\bin\R.exe CMD INSTALL --build --library=ballgown.buildbin-libdir ballgown_2.36.0.tar.gz StartedAt: 2024-10-17 07:21:45 -0400 (Thu, 17 Oct 2024) EndedAt: 2024-10-17 07:22:43 -0400 (Thu, 17 Oct 2024) EllapsedTime: 58.6 seconds RetCode: 0 Status: OK PackageFile: ballgown_2.36.0.zip PackageFileSize: 3.253 MiB