Package: ballgown Version: 2.36.0 Command: /Library/Frameworks/R.framework/Resources/bin/R CMD build --keep-empty-dirs --no-resave-data ballgown StartedAt: 2024-10-16 17:10:24 -0400 (Wed, 16 Oct 2024) EndedAt: 2024-10-16 17:12:30 -0400 (Wed, 16 Oct 2024) EllapsedTime: 125.8 seconds RetCode: 0 Status: OK PackageFile: ballgown_2.36.0.tar.gz PackageFileSize: 3.081 MiB