Package: ballgown Version: 2.36.0 Command: rm -rf ballgown.buildbin-libdir && mkdir ballgown.buildbin-libdir && /Users/biocbuild/BBS/utils/build-universal.sh ballgown_2.36.0.tar.gz /Library/Frameworks/R.framework/Resources/bin/R ballgown.buildbin-libdir StartedAt: 2024-10-17 15:39:37 -0400 (Thu, 17 Oct 2024) EndedAt: 2024-10-17 15:41:09 -0400 (Thu, 17 Oct 2024) EllapsedTime: 92.2 seconds RetCode: 0 Status: OK PackageFile: ballgown_2.36.0.tgz PackageFileSize: 3.316 MiB