Package: ballgown Version: 2.36.0 Command: /home/biocbuild/R/R-beta-2024-04-15_r86425/bin/R CMD build --keep-empty-dirs --no-resave-data ballgown StartedAt: 2024-05-08 22:27:09 -0000 (Wed, 08 May 2024) EndedAt: 2024-05-08 22:28:18 -0000 (Wed, 08 May 2024) EllapsedTime: 69.1 seconds RetCode: 0 Status: OK PackageFile: ballgown_2.36.0.tar.gz PackageFileSize: 3.004 MiB