Package: bacon Version: 1.32.0 Command: rm -rf bacon.buildbin-libdir && mkdir bacon.buildbin-libdir && F:\biocbuild\bbs-3.19-bioc\R\bin\R.exe CMD INSTALL --build --library=bacon.buildbin-libdir bacon_1.32.0.tar.gz StartedAt: 2024-06-27 07:50:54 -0400 (Thu, 27 Jun 2024) EndedAt: 2024-06-27 07:51:08 -0400 (Thu, 27 Jun 2024) EllapsedTime: 13.2 seconds RetCode: 0 Status: OK PackageFile: bacon_1.32.0.zip PackageFileSize: 766.6 KiB