Package: bacon Version: 1.32.0 Command: /home/biocbuild/bbs-3.19-bioc/R/bin/R CMD build --keep-empty-dirs --no-resave-data bacon StartedAt: 2024-10-16 16:59:52 -0400 (Wed, 16 Oct 2024) EndedAt: 2024-10-16 17:00:31 -0400 (Wed, 16 Oct 2024) EllapsedTime: 39.0 seconds RetCode: 0 Status: OK PackageFile: bacon_1.32.0.tar.gz PackageFileSize: 1.778 MiB