Package: bacon Version: 1.32.0 Command: /Library/Frameworks/R.framework/Resources/bin/R CMD build --keep-empty-dirs --no-resave-data bacon StartedAt: 2024-10-16 17:09:33 -0400 (Wed, 16 Oct 2024) EndedAt: 2024-10-16 17:11:06 -0400 (Wed, 16 Oct 2024) EllapsedTime: 92.7 seconds RetCode: 0 Status: OK PackageFile: bacon_1.32.0.tar.gz PackageFileSize: 2.067 MiB