Package: bacon Version: 1.32.0 Command: rm -rf bacon.buildbin-libdir && mkdir bacon.buildbin-libdir && /Users/biocbuild/BBS/utils/build-universal.sh bacon_1.32.0.tar.gz /Library/Frameworks/R.framework/Resources/bin/R bacon.buildbin-libdir StartedAt: 2024-10-17 15:39:27 -0400 (Thu, 17 Oct 2024) EndedAt: 2024-10-17 15:39:45 -0400 (Thu, 17 Oct 2024) EllapsedTime: 18.0 seconds RetCode: 0 Status: OK PackageFile: bacon_1.32.0.tgz PackageFileSize: 2.242 MiB