Package: bacon Version: 1.32.0 Command: rm -rf bacon.buildbin-libdir && mkdir bacon.buildbin-libdir && /Users/biocbuild/BBS/utils/build-universal.sh bacon_1.32.0.tar.gz /Library/Frameworks/R.framework/Resources/bin/R bacon.buildbin-libdir StartedAt: 2024-06-11 10:11:40 -0400 (Tue, 11 Jun 2024) EndedAt: 2024-06-11 10:11:57 -0400 (Tue, 11 Jun 2024) EllapsedTime: 16.5 seconds RetCode: 0 Status: OK PackageFile: bacon_1.32.0.tgz PackageFileSize: 2.207 MiB