Package: awst Version: 1.12.0 Command: rm -rf awst.buildbin-libdir && mkdir awst.buildbin-libdir && E:\biocbuild\bbs-3.19-bioc\R\bin\R.exe CMD INSTALL --build --library=awst.buildbin-libdir awst_1.12.0.tar.gz StartedAt: 2024-10-17 07:21:26 -0400 (Thu, 17 Oct 2024) EndedAt: 2024-10-17 07:21:50 -0400 (Thu, 17 Oct 2024) EllapsedTime: 23.5 seconds RetCode: 0 Status: OK PackageFile: awst_1.12.0.zip PackageFileSize: 358.7 KiB