Package: awst Version: 1.12.0 Command: rm -rf awst.buildbin-libdir && mkdir awst.buildbin-libdir && F:\biocbuild\bbs-3.19-bioc\R\bin\R.exe CMD INSTALL --build --library=awst.buildbin-libdir awst_1.12.0.tar.gz StartedAt: 2024-06-27 07:50:51 -0400 (Thu, 27 Jun 2024) EndedAt: 2024-06-27 07:51:17 -0400 (Thu, 27 Jun 2024) EllapsedTime: 26.4 seconds RetCode: 0 Status: OK PackageFile: awst_1.12.0.zip PackageFileSize: 358.7 KiB