Package: awst Version: 1.12.0 Command: /Library/Frameworks/R.framework/Resources/bin/R CMD INSTALL awst StartedAt: 2024-06-09 15:09:46 -0400 (Sun, 09 Jun 2024) EndedAt: 2024-06-09 15:10:14 -0400 (Sun, 09 Jun 2024) EllapsedTime: 28.1 seconds RetCode: 0 Status: OK