Package: attract Version: 1.56.0 Command: chmod a+r attract -R && F:\biocbuild\bbs-3.19-bioc\R\bin\R.exe CMD build --keep-empty-dirs --no-resave-data attract StartedAt: 2024-06-26 17:10:30 -0400 (Wed, 26 Jun 2024) EndedAt: 2024-06-26 17:12:54 -0400 (Wed, 26 Jun 2024) EllapsedTime: 143.4 seconds RetCode: 0 Status: OK PackageFile: attract_1.56.0.tar.gz PackageFileSize: 4.207 MiB