Package: attract Version: 1.56.0 Command: rm -rf attract.buildbin-libdir && mkdir attract.buildbin-libdir && F:\biocbuild\bbs-3.19-bioc\R\bin\R.exe CMD INSTALL --build --library=attract.buildbin-libdir attract_1.56.0.tar.gz StartedAt: 2024-06-27 07:50:43 -0400 (Thu, 27 Jun 2024) EndedAt: 2024-06-27 07:51:21 -0400 (Thu, 27 Jun 2024) EllapsedTime: 38.3 seconds RetCode: 0 Status: OK PackageFile: attract_1.56.0.zip PackageFileSize: 4.279 MiB