Package: attract Version: 1.56.0 Command: /home/biocbuild/R/R-beta-2024-04-15_r86425/bin/R CMD build --keep-empty-dirs --no-resave-data attract StartedAt: 2024-05-08 22:24:09 -0000 (Wed, 08 May 2024) EndedAt: 2024-05-08 22:27:40 -0000 (Wed, 08 May 2024) EllapsedTime: 210.3 seconds RetCode: 0 Status: OK PackageFile: attract_1.56.0.tar.gz PackageFileSize: 4.29 MiB