Package: attract Version: 1.56.0 Command: /Library/Frameworks/R.framework/Resources/bin/R CMD INSTALL attract StartedAt: 2024-06-09 16:54:03 -0400 (Sun, 09 Jun 2024) EndedAt: 2024-06-09 16:54:34 -0400 (Sun, 09 Jun 2024) EllapsedTime: 31.2 seconds RetCode: 0 Status: OK