Package: atSNP Version: 1.20.0 Command: E:\biocbuild\bbs-3.19-bioc\R\bin\R.exe CMD check --no-multiarch --install=check:atSNP.install-out.txt --library=E:\biocbuild\bbs-3.19-bioc\R\library --no-vignettes --timings atSNP_1.20.0.tar.gz StartedAt: 2024-10-16 22:55:20 -0400 (Wed, 16 Oct 2024) EndedAt: 2024-10-16 23:03:40 -0400 (Wed, 16 Oct 2024) EllapsedTime: 499.4 seconds RetCode: 0 Status: OK CheckDir: atSNP.Rcheck Warnings: 0