Package: atSNP Version: 1.20.0 Command: chmod a+r atSNP -R && E:\biocbuild\bbs-3.19-bioc\R\bin\R.exe CMD build --keep-empty-dirs --no-resave-data atSNP StartedAt: 2024-10-16 17:36:47 -0400 (Wed, 16 Oct 2024) EndedAt: 2024-10-16 17:38:32 -0400 (Wed, 16 Oct 2024) EllapsedTime: 105.2 seconds RetCode: 0 Status: OK PackageFile: atSNP_1.20.0.tar.gz PackageFileSize: 829.3 KiB