Package: atSNP Version: 1.20.0 Command: rm -rf atSNP.buildbin-libdir && mkdir atSNP.buildbin-libdir && E:\biocbuild\bbs-3.19-bioc\R\bin\R.exe CMD INSTALL --build --library=atSNP.buildbin-libdir atSNP_1.20.0.tar.gz StartedAt: 2024-10-17 07:21:14 -0400 (Thu, 17 Oct 2024) EndedAt: 2024-10-17 07:22:23 -0400 (Thu, 17 Oct 2024) EllapsedTime: 69.4 seconds RetCode: 0 Status: OK PackageFile: atSNP_1.20.0.zip PackageFileSize: 1.289 MiB