Package: atSNP Version: 1.20.0 Command: /home/biocbuild/bbs-3.19-bioc/R/bin/R CMD check --install=check:atSNP.install-out.txt --library=/home/biocbuild/bbs-3.19-bioc/R/site-library --timings atSNP_1.20.0.tar.gz StartedAt: 2024-10-16 21:43:16 -0400 (Wed, 16 Oct 2024) EndedAt: 2024-10-16 21:49:44 -0400 (Wed, 16 Oct 2024) EllapsedTime: 387.7 seconds RetCode: 0 Status: OK CheckDir: atSNP.Rcheck Warnings: 0