Package: atSNP Version: 1.20.0 Command: /Library/Frameworks/R.framework/Resources/bin/R CMD INSTALL atSNP StartedAt: 2024-10-16 16:10:52 -0400 (Wed, 16 Oct 2024) EndedAt: 2024-10-16 16:13:02 -0400 (Wed, 16 Oct 2024) EllapsedTime: 129.5 seconds RetCode: 0 Status: OK