Package: atSNP Version: 1.20.0 Command: /Library/Frameworks/R.framework/Resources/bin/R CMD build --keep-empty-dirs --no-resave-data atSNP StartedAt: 2024-10-16 17:07:43 -0400 (Wed, 16 Oct 2024) EndedAt: 2024-10-16 17:10:52 -0400 (Wed, 16 Oct 2024) EllapsedTime: 188.5 seconds RetCode: 0 Status: OK PackageFile: atSNP_1.20.0.tar.gz PackageFileSize: 1.029 MiB