Package: atSNP Version: 1.20.0 Command: rm -rf atSNP.buildbin-libdir && mkdir atSNP.buildbin-libdir && /Users/biocbuild/BBS/utils/build-universal.sh atSNP_1.20.0.tar.gz /Library/Frameworks/R.framework/Resources/bin/R atSNP.buildbin-libdir StartedAt: 2024-10-17 15:39:10 -0400 (Thu, 17 Oct 2024) EndedAt: 2024-10-17 15:41:29 -0400 (Thu, 17 Oct 2024) EllapsedTime: 138.9 seconds RetCode: 0 Status: OK PackageFile: atSNP_1.20.0.tgz PackageFileSize: 1.174 MiB