Package: atSNP Version: 1.20.0 Command: /Library/Frameworks/R.framework/Resources/bin/R CMD check --install=check:atSNP.install-out.txt --library=/Library/Frameworks/R.framework/Resources/library --no-vignettes --timings atSNP_1.20.0.tar.gz StartedAt: 2024-06-10 07:37:34 -0400 (Mon, 10 Jun 2024) EndedAt: 2024-06-10 07:47:09 -0400 (Mon, 10 Jun 2024) EllapsedTime: 575.2 seconds RetCode: 0 Status: OK CheckDir: atSNP.Rcheck Warnings: 0