Package: atSNP Version: 1.20.0 Command: rm -rf atSNP.buildbin-libdir && mkdir atSNP.buildbin-libdir && /Users/biocbuild/BBS/utils/build-universal.sh atSNP_1.20.0.tar.gz /Library/Frameworks/R.framework/Resources/bin/R atSNP.buildbin-libdir StartedAt: 2024-10-18 17:20:33 -0400 (Fri, 18 Oct 2024) EndedAt: 2024-10-18 17:21:56 -0400 (Fri, 18 Oct 2024) EllapsedTime: 82.9 seconds RetCode: 0 Status: OK PackageFile: atSNP_1.20.0.tgz PackageFileSize: 1.184 MiB