Package: arrayQualityMetrics Version: 3.60.0 Command: E:\biocbuild\bbs-3.19-bioc\R\bin\R.exe CMD INSTALL arrayQualityMetrics StartedAt: 2024-10-16 16:56:50 -0400 (Wed, 16 Oct 2024) EndedAt: 2024-10-16 16:57:45 -0400 (Wed, 16 Oct 2024) EllapsedTime: 55.1 seconds RetCode: 0 Status: OK