Package: arrayQualityMetrics Version: 3.60.0 Command: rm -rf arrayQualityMetrics.buildbin-libdir && mkdir arrayQualityMetrics.buildbin-libdir && E:\biocbuild\bbs-3.19-bioc\R\bin\R.exe CMD INSTALL --build --library=arrayQualityMetrics.buildbin-libdir arrayQualityMetrics_3.60.0.tar.gz StartedAt: 2024-10-17 07:20:41 -0400 (Thu, 17 Oct 2024) EndedAt: 2024-10-17 07:22:25 -0400 (Thu, 17 Oct 2024) EllapsedTime: 104.4 seconds RetCode: 0 Status: OK PackageFile: arrayQualityMetrics_3.60.0.zip PackageFileSize: 567.1 KiB