Package: arrayQualityMetrics Version: 3.60.0 Command: /home/biocbuild/R/R-beta-2024-04-15_r86425/bin/R CMD check --install=check:arrayQualityMetrics.install-out.txt --library=/home/biocbuild/R/R-beta-2024-04-15_r86425/site-library --no-vignettes --timings arrayQualityMetrics_3.60.0.tar.gz StartedAt: 2024-05-09 04:47:46 -0000 (Thu, 09 May 2024) EndedAt: 2024-05-09 04:51:00 -0000 (Thu, 09 May 2024) EllapsedTime: 194.4 seconds RetCode: 0 Status: OK CheckDir: arrayQualityMetrics.Rcheck Warnings: 0