Package: arrayQualityMetrics Version: 3.60.0 Command: /home/biocbuild/R/R-beta-2024-04-15_r86425/bin/R CMD build --keep-empty-dirs --no-resave-data arrayQualityMetrics StartedAt: 2024-05-08 22:20:22 -0000 (Wed, 08 May 2024) EndedAt: 2024-05-08 22:28:11 -0000 (Wed, 08 May 2024) EllapsedTime: 468.6 seconds RetCode: 0 Status: OK PackageFile: arrayQualityMetrics_3.60.0.tar.gz PackageFileSize: 587.1 KiB