Package: arrayQualityMetrics Version: 3.60.0 Command: /Library/Frameworks/R.framework/Resources/bin/R CMD check --install=check:arrayQualityMetrics.install-out.txt --library=/Library/Frameworks/R.framework/Resources/library --no-vignettes --timings arrayQualityMetrics_3.60.0.tar.gz StartedAt: 2024-10-17 12:30:42 -0400 (Thu, 17 Oct 2024) EndedAt: 2024-10-17 12:33:29 -0400 (Thu, 17 Oct 2024) EllapsedTime: 167.7 seconds RetCode: 0 Status: OK CheckDir: arrayQualityMetrics.Rcheck Warnings: 0