Package: arrayQualityMetrics Version: 3.60.0 Command: /Library/Frameworks/R.framework/Resources/bin/R CMD build --keep-empty-dirs --no-resave-data arrayQualityMetrics StartedAt: 2024-10-16 19:29:08 -0400 (Wed, 16 Oct 2024) EndedAt: 2024-10-16 19:40:26 -0400 (Wed, 16 Oct 2024) EllapsedTime: 677.7 seconds RetCode: 0 Status: OK PackageFile: arrayQualityMetrics_3.60.0.tar.gz PackageFileSize: 596.7 KiB