Package: arrayQuality Version: 1.82.0 Command: E:\biocbuild\bbs-3.19-bioc\R\bin\R.exe CMD check --no-multiarch --install=check:arrayQuality.install-out.txt --library=E:\biocbuild\bbs-3.19-bioc\R\library --no-vignettes --timings arrayQuality_1.82.0.tar.gz StartedAt: 2024-10-16 22:52:17 -0400 (Wed, 16 Oct 2024) EndedAt: 2024-10-16 22:53:15 -0400 (Wed, 16 Oct 2024) EllapsedTime: 57.7 seconds RetCode: 0 Status: WARNINGS CheckDir: arrayQuality.Rcheck Warnings: 1