Package: arrayQuality Version: 1.82.0 Command: chmod a+r arrayQuality -R && E:\biocbuild\bbs-3.19-bioc\R\bin\R.exe CMD build --keep-empty-dirs --no-resave-data arrayQuality StartedAt: 2024-10-16 17:35:00 -0400 (Wed, 16 Oct 2024) EndedAt: 2024-10-16 17:35:11 -0400 (Wed, 16 Oct 2024) EllapsedTime: 11.1 seconds RetCode: 0 Status: OK PackageFile: arrayQuality_1.82.0.tar.gz PackageFileSize: 12.82 MiB