Package: arrayQuality Version: 1.82.0 Command: rm -rf arrayQuality.buildbin-libdir && mkdir arrayQuality.buildbin-libdir && E:\biocbuild\bbs-3.19-bioc\R\bin\R.exe CMD INSTALL --build --library=arrayQuality.buildbin-libdir arrayQuality_1.82.0.tar.gz StartedAt: 2024-10-17 07:20:39 -0400 (Thu, 17 Oct 2024) EndedAt: 2024-10-17 07:21:14 -0400 (Thu, 17 Oct 2024) EllapsedTime: 34.9 seconds RetCode: 0 Status: OK PackageFile: arrayQuality_1.82.0.zip PackageFileSize: 12.01 MiB