Package: arrayQuality Version: 1.82.0 Command: rm -rf arrayQuality.buildbin-libdir && mkdir arrayQuality.buildbin-libdir && F:\biocbuild\bbs-3.19-bioc\R\bin\R.exe CMD INSTALL --build --library=arrayQuality.buildbin-libdir arrayQuality_1.82.0.tar.gz StartedAt: 2024-06-27 07:50:11 -0400 (Thu, 27 Jun 2024) EndedAt: 2024-06-27 07:50:48 -0400 (Thu, 27 Jun 2024) EllapsedTime: 37.0 seconds RetCode: 0 Status: OK PackageFile: arrayQuality_1.82.0.zip PackageFileSize: 12.01 MiB